BEGIN:VCALENDAR
VERSION:2.0
PRODID:-//Amplitude - ECPv6.15.10//NONSGML v1.0//EN
CALSCALE:GREGORIAN
METHOD:PUBLISH
X-ORIGINAL-URL:https://livingwithamplitude.com
X-WR-CALDESC:Events for Amplitude
REFRESH-INTERVAL;VALUE=DURATION:PT1H
X-Robots-Tag:noindex
X-PUBLISHED-TTL:PT1H
BEGIN:VTIMEZONE
TZID:America/New_York
BEGIN:DAYLIGHT
TZOFFSETFROM:-0500
TZOFFSETTO:-0400
TZNAME:EDT
DTSTART:20170312T070000
END:DAYLIGHT
BEGIN:STANDARD
TZOFFSETFROM:-0400
TZOFFSETTO:-0500
TZNAME:EST
DTSTART:20171105T060000
END:STANDARD
BEGIN:DAYLIGHT
TZOFFSETFROM:-0500
TZOFFSETTO:-0400
TZNAME:EDT
DTSTART:20180311T070000
END:DAYLIGHT
BEGIN:STANDARD
TZOFFSETFROM:-0400
TZOFFSETTO:-0500
TZNAME:EST
DTSTART:20181104T060000
END:STANDARD
BEGIN:DAYLIGHT
TZOFFSETFROM:-0500
TZOFFSETTO:-0400
TZNAME:EDT
DTSTART:20190310T070000
END:DAYLIGHT
BEGIN:STANDARD
TZOFFSETFROM:-0400
TZOFFSETTO:-0500
TZNAME:EST
DTSTART:20191103T060000
END:STANDARD
BEGIN:DAYLIGHT
TZOFFSETFROM:-0500
TZOFFSETTO:-0400
TZNAME:EDT
DTSTART:20200308T070000
END:DAYLIGHT
BEGIN:STANDARD
TZOFFSETFROM:-0400
TZOFFSETTO:-0500
TZNAME:EST
DTSTART:20201101T060000
END:STANDARD
END:VTIMEZONE
BEGIN:VEVENT
DTSTART;TZID=America/New_York:20180713T000000
DTEND;TZID=America/New_York:20180713T000000
DTSTAMP:20260425T063656
CREATED:20180911T193111Z
LAST-MODIFIED:20180911T193111Z
UID:21876-1531440000-1531440000@livingwithamplitude.com
SUMMARY:First Swim Training and Clinic
DESCRIPTION:In conjunction with the Amputee Coalition National Conference.
URL:https://livingwithamplitude.com/event/first-swim-training-and-clinic-3/
ORGANIZER;CN="OPAF":MAILTO:robin@opafonline.org
END:VEVENT
BEGIN:VEVENT
DTSTART;TZID=America/New_York:20180714T000000
DTEND;TZID=America/New_York:20180718T000000
DTSTAMP:20260425T063656
CREATED:20180911T193044Z
LAST-MODIFIED:20180911T193044Z
UID:21849-1531526400-1531872000@livingwithamplitude.com
SUMMARY:Camp X-Treme
DESCRIPTION:Action Camps support the development of young athletes who have amputations. visual diagnoses/disabilities or spinal cord difference. Camps will include Paralympic activities and sports training as well as mentor ship from emerging Paralympic athletes. Ages 12-17
URL:https://livingwithamplitude.com/event/camp-x-treme/
END:VEVENT
BEGIN:VEVENT
DTSTART;TZID=America/New_York:20180721T000000
DTEND;TZID=America/New_York:20180721T000000
DTSTAMP:20260425T063656
CREATED:20180911T192842Z
LAST-MODIFIED:20180911T192842Z
UID:21737-1532131200-1532131200@livingwithamplitude.com
SUMMARY:Learn to Surf
DESCRIPTION:NULL
URL:https://livingwithamplitude.com/event/learn-to-surf-3/
END:VEVENT
BEGIN:VEVENT
DTSTART;TZID=America/New_York:20180724T000000
DTEND;TZID=America/New_York:20180725T000000
DTSTAMP:20260425T063656
CREATED:20180911T192844Z
LAST-MODIFIED:20180911T192844Z
UID:21740-1532390400-1532476800@livingwithamplitude.com
SUMMARY:Ryan Fann’s Ninth Annual Golf Tournament
DESCRIPTION:Sign up as an individual ($125) or as a part of a four-person team ($450).
URL:https://livingwithamplitude.com/event/ryan-fanns-ninth-annual-golf-tournament/
END:VEVENT
BEGIN:VEVENT
DTSTART;TZID=America/New_York:20180730T000000
DTEND;TZID=America/New_York:20180803T000000
DTSTAMP:20260425T063656
CREATED:20180911T193044Z
LAST-MODIFIED:20180911T193044Z
UID:21850-1532908800-1533254400@livingwithamplitude.com
SUMMARY:Westwater Adaptive Rafting
DESCRIPTION:Camp X-treme is an outdoor overnight camp for teens with physical disabilities at the National Ability Center in Park City. Utah.  Ages 12-17
URL:https://livingwithamplitude.com/event/westwater-adaptive-rafting/
END:VEVENT
BEGIN:VEVENT
DTSTART;TZID=America/New_York:20180802T000000
DTEND;TZID=America/New_York:20180805T000000
DTSTAMP:20260425T063656
CREATED:20180911T192843Z
LAST-MODIFIED:20180911T192843Z
UID:21738-1533168000-1533427200@livingwithamplitude.com
SUMMARY:Angel City Games
DESCRIPTION:NULL
URL:https://livingwithamplitude.com/event/angel-city-games-2/
END:VEVENT
BEGIN:VEVENT
DTSTART;TZID=America/New_York:20180803T000000
DTEND;TZID=America/New_York:20180805T000000
DTSTAMP:20260425T063656
CREATED:20180911T192834Z
LAST-MODIFIED:20180911T192834Z
UID:21730-1533254400-1533427200@livingwithamplitude.com
SUMMARY:Abilities Expo
DESCRIPTION:NULL
URL:https://livingwithamplitude.com/event/abilities-expo-7/
END:VEVENT
BEGIN:VEVENT
DTSTART;TZID=America/New_York:20180805T000000
DTEND;TZID=America/New_York:20180811T000000
DTSTAMP:20260425T063656
CREATED:20180911T192933Z
LAST-MODIFIED:20180911T192933Z
UID:21783-1533427200-1533945600@livingwithamplitude.com
SUMMARY:Endeavor Games
DESCRIPTION:NULL
URL:https://livingwithamplitude.com/event/endeavor-games/
END:VEVENT
BEGIN:VEVENT
DTSTART;TZID=America/New_York:20180810T000000
DTEND;TZID=America/New_York:20180810T000000
DTSTAMP:20260425T063656
CREATED:20180911T193108Z
LAST-MODIFIED:20180911T193108Z
UID:21872-1533859200-1533859200@livingwithamplitude.com
SUMMARY:First Stride Training and Clinic
DESCRIPTION:Sponsored by Complete Orthopedic Services
URL:https://livingwithamplitude.com/event/first-stride-training-and-clinic-12/
ORGANIZER;CN="OPAF":MAILTO:robin@opafonline.org
END:VEVENT
BEGIN:VEVENT
DTSTART;TZID=America/New_York:20180819T000000
DTEND;TZID=America/New_York:20180819T000000
DTSTAMP:20260425T063656
CREATED:20180911T193120Z
LAST-MODIFIED:20180911T193120Z
UID:21884-1534636800-1534636800@livingwithamplitude.com
SUMMARY:Yosemite Climbing Trip
DESCRIPTION:In conjunction with the Winston-Salem Open.
URL:https://livingwithamplitude.com/event/yosemite-climbing-trip/
ORGANIZER;CN="OPAF":MAILTO:robin@opafonline.org
END:VEVENT
BEGIN:VEVENT
DTSTART;TZID=America/New_York:20180820T000000
DTEND;TZID=America/New_York:20180820T000000
DTSTAMP:20260425T063656
CREATED:20180911T193115Z
LAST-MODIFIED:20180911T193115Z
UID:21880-1534723200-1534723200@livingwithamplitude.com
SUMMARY:First Volley Clinic
DESCRIPTION:Sponsored by Del Bianco Prosthetics and Orthotics.
URL:https://livingwithamplitude.com/event/first-volley-clinic-3/
ORGANIZER;CN="OPAF":MAILTO:robin@opafonline.org
END:VEVENT
BEGIN:VEVENT
DTSTART;TZID=America/New_York:20180825T000000
DTEND;TZID=America/New_York:20180825T000000
DTSTAMP:20260425T063656
CREATED:20180911T193110Z
LAST-MODIFIED:20180911T193110Z
UID:21873-1535155200-1535155200@livingwithamplitude.com
SUMMARY:First Swim Clinic
DESCRIPTION:Sponsored by the Center for Orthotic and Prosthetic Care.
URL:https://livingwithamplitude.com/event/first-swim-clinic-9/
ORGANIZER;CN="OPAF":MAILTO:robin@opafonline.org
END:VEVENT
BEGIN:VEVENT
DTSTART;TZID=America/New_York:20180829T000000
DTEND;TZID=America/New_York:20180830T000000
DTSTAMP:20260425T063656
CREATED:20180911T193045Z
LAST-MODIFIED:20180911T193045Z
UID:21851-1535500800-1535587200@livingwithamplitude.com
SUMMARY:Women's Art\, Yoga & Rafting
DESCRIPTION:This stretch of the Colorado River has everything from sections of slow moving water which are optimal for wildlife viewing to fast moving whitewater thrills.  This section boasts many Class III – IV rapids like skull. Sock -it-to-me. and Hummer.
URL:https://livingwithamplitude.com/event/womens-art-yoga-rafting/
END:VEVENT
BEGIN:VEVENT
DTSTART;TZID=America/New_York:20180903T000000
DTEND;TZID=America/New_York:20180906T000000
DTSTAMP:20260425T063656
CREATED:20180911T193047Z
LAST-MODIFIED:20180911T193048Z
UID:21852-1535932800-1536192000@livingwithamplitude.com
SUMMARY:First Climb Clinic
DESCRIPTION:
URL:https://livingwithamplitude.com/event/first-climb-clinic-5/
END:VEVENT
BEGIN:VEVENT
DTSTART;TZID=America/New_York:20180907T000000
DTEND;TZID=America/New_York:20180909T000000
DTSTAMP:20260425T063656
CREATED:20180911T192948Z
LAST-MODIFIED:20180911T192948Z
UID:21799-1536278400-1536451200@livingwithamplitude.com
SUMMARY:Operation Surf
DESCRIPTION:NULL
URL:https://livingwithamplitude.com/event/operation-surf/
END:VEVENT
BEGIN:VEVENT
DTSTART;TZID=America/New_York:20180908T000000
DTEND;TZID=America/New_York:20180908T000000
DTSTAMP:20260425T063656
CREATED:20180911T193054Z
LAST-MODIFIED:20180911T193054Z
UID:21859-1536364800-1536364800@livingwithamplitude.com
SUMMARY:First Dance Clinic
DESCRIPTION:Sponsored by Kinetic Prosthetics
URL:https://livingwithamplitude.com/event/first-dance-clinic-3/
ORGANIZER;CN="OPAF":MAILTO:robin@opafonline.org
END:VEVENT
BEGIN:VEVENT
DTSTART;TZID=America/New_York:20180915T000000
DTEND;TZID=America/New_York:20180915T000000
DTSTAMP:20260425T063656
CREATED:20180911T193110Z
LAST-MODIFIED:20180911T193110Z
UID:21874-1536969600-1536969600@livingwithamplitude.com
SUMMARY:First Swim Clinic
DESCRIPTION:Sponsored by Prosthetic Center for Excellence
URL:https://livingwithamplitude.com/event/first-swim-clinic-10/
ORGANIZER;CN="OPAF":MAILTO:robin@opafonline.org
END:VEVENT
BEGIN:VEVENT
DTSTART;TZID=America/New_York:20180915T000000
DTEND;TZID=America/New_York:20180915T000000
DTSTAMP:20260425T063656
CREATED:20180911T193118Z
LAST-MODIFIED:20180911T193118Z
UID:21882-1536969600-1536969600@livingwithamplitude.com
SUMMARY:Wheelchair Tennis Training and Clinic
DESCRIPTION:Sponsored by Celerity Prosthetics & Orthotics
URL:https://livingwithamplitude.com/event/wheelchair-tennis-training-and-clinic-6/
ORGANIZER;CN="OPAF":MAILTO:robin@opafonline.org
END:VEVENT
BEGIN:VEVENT
DTSTART;TZID=America/New_York:20180921T000000
DTEND;TZID=America/New_York:20180923T000000
DTSTAMP:20260425T063656
CREATED:20180911T192835Z
LAST-MODIFIED:20180911T192835Z
UID:21731-1537488000-1537660800@livingwithamplitude.com
SUMMARY:Indoor gym and swim practice
DESCRIPTION:NULL
URL:https://livingwithamplitude.com/event/indoor-gym-and-swim-practice/
END:VEVENT
BEGIN:VEVENT
DTSTART;TZID=America/New_York:20180926T000000
DTEND;TZID=America/New_York:20180926T000000
DTSTAMP:20260425T063656
CREATED:20180911T193119Z
LAST-MODIFIED:20180911T193119Z
UID:21883-1537920000-1537920000@livingwithamplitude.com
SUMMARY:The Gunks Climbing Trip
DESCRIPTION:Hosted by OPAF & the O & P Capital Connection
URL:https://livingwithamplitude.com/event/the-gunks-climbing-trip/
ORGANIZER;CN="OPAF":MAILTO:robin@opafonline.org
END:VEVENT
BEGIN:VEVENT
DTSTART;TZID=America/New_York:20181006T000000
DTEND;TZID=America/New_York:20181006T000000
DTSTAMP:20260425T063656
CREATED:20180911T193048Z
LAST-MODIFIED:20180911T193048Z
UID:21854-1538784000-1538784000@livingwithamplitude.com
SUMMARY:First Climb Training and Clinic
DESCRIPTION:Sponsored by Wright-Filippis and The Filippis Foundation
URL:https://livingwithamplitude.com/event/first-climb-training-and-clinic/
ORGANIZER;CN="OPAF":MAILTO:robin@opafonline.org
END:VEVENT
BEGIN:VEVENT
DTSTART;TZID=America/New_York:20181006T000000
DTEND;TZID=America/New_York:20181006T000000
DTSTAMP:20260425T063656
CREATED:20180911T193059Z
LAST-MODIFIED:20180911T193059Z
UID:21865-1538784000-1538784000@livingwithamplitude.com
SUMMARY:First Stride Training and Clinic
DESCRIPTION:Coordinated by the UTSW MSOP students
URL:https://livingwithamplitude.com/event/first-stride-training-and-clinic-5/
ORGANIZER;CN="OPAF":MAILTO:robin@opafonline.org
END:VEVENT
BEGIN:VEVENT
DTSTART;TZID=America/New_York:20181013T000000
DTEND;TZID=America/New_York:20181013T000000
DTSTAMP:20260425T063656
CREATED:20180911T193059Z
LAST-MODIFIED:20180911T193059Z
UID:21864-1539388800-1539388800@livingwithamplitude.com
SUMMARY:First Stride Training and Clinic
DESCRIPTION:Sponsored by Hillsborough Parks & Rec
URL:https://livingwithamplitude.com/event/first-stride-training-and-clinic-4/
ORGANIZER;CN="OPAF":MAILTO:robin@opafonline.org
END:VEVENT
BEGIN:VEVENT
DTSTART;TZID=America/New_York:20181019T000000
DTEND;TZID=America/New_York:20181019T000000
DTSTAMP:20260425T063656
CREATED:20180911T193100Z
LAST-MODIFIED:20180911T193100Z
UID:21866-1539907200-1539907200@livingwithamplitude.com
SUMMARY:First Stride Training and Clinic
DESCRIPTION:Sponsored by Creative Prosthetics & Orthotics
URL:https://livingwithamplitude.com/event/first-stride-training-and-clinic-6/
ORGANIZER;CN="OPAF":MAILTO:robin@opafonline.org
END:VEVENT
BEGIN:VEVENT
DTSTART;TZID=America/New_York:20181026T000000
DTEND;TZID=America/New_York:20181028T000000
DTSTAMP:20260425T063656
CREATED:20180911T192829Z
LAST-MODIFIED:20180911T192829Z
UID:21725-1540512000-1540684800@livingwithamplitude.com
SUMMARY:Abilities Expo
DESCRIPTION:NULL
URL:https://livingwithamplitude.com/event/abilities-expo-2/
END:VEVENT
BEGIN:VEVENT
DTSTART;TZID=America/New_York:20181103T000000
DTEND;TZID=America/New_York:20181103T000000
DTSTAMP:20260425T063656
CREATED:20180911T193113Z
LAST-MODIFIED:20180911T193113Z
UID:21877-1541203200-1541203200@livingwithamplitude.com
SUMMARY:First Swim Training and Clinic
DESCRIPTION:Sponsored by Hanger Clinic. Bulldog Tools and Endolite
URL:https://livingwithamplitude.com/event/first-swim-training-and-clinic-4/
ORGANIZER;CN="OPAF":MAILTO:robin@opafonline.org
END:VEVENT
BEGIN:VEVENT
DTSTART;TZID=America/New_York:20181116T000000
DTEND;TZID=America/New_York:20181116T000000
DTSTAMP:20260425T063656
CREATED:20180911T193116Z
LAST-MODIFIED:20180911T193116Z
UID:21881-1542326400-1542326400@livingwithamplitude.com
SUMMARY:Thranhardt Golf Classic
DESCRIPTION:Sponsored by Prosthetic Orthotic Associates
URL:https://livingwithamplitude.com/event/thranhardt-golf-classic/
ORGANIZER;CN="OPAF":MAILTO:robin@opafonline.org
END:VEVENT
BEGIN:VEVENT
DTSTART;TZID=America/New_York:20181201T000000
DTEND;TZID=America/New_York:20181201T000000
DTSTAMP:20260425T063656
CREATED:20180911T193049Z
LAST-MODIFIED:20180911T193049Z
UID:21856-1543622400-1543622400@livingwithamplitude.com
SUMMARY:First Climb Training and Clinic
DESCRIPTION:Sponsored by Kinetic Prosthetics
URL:https://livingwithamplitude.com/event/first-climb-training-and-clinic-3/
ORGANIZER;CN="OPAF":MAILTO:robin@opafonline.org
END:VEVENT
BEGIN:VEVENT
DTSTART;TZID=America/New_York:20190222T000000
DTEND;TZID=America/New_York:20190224T000000
DTSTAMP:20260425T063656
CREATED:20180911T192829Z
LAST-MODIFIED:20180911T192829Z
UID:21726-1550793600-1550966400@livingwithamplitude.com
SUMMARY:Abilities Expo
DESCRIPTION:NULL
URL:https://livingwithamplitude.com/event/abilities-expo-3/
END:VEVENT
BEGIN:VEVENT
DTSTART;TZID=America/New_York:20190405T000000
DTEND;TZID=America/New_York:20190407T000000
DTSTAMP:20260425T063656
CREATED:20180911T192832Z
LAST-MODIFIED:20180911T192832Z
UID:21727-1554422400-1554595200@livingwithamplitude.com
SUMMARY:Abilities Expo
DESCRIPTION:NULL
URL:https://livingwithamplitude.com/event/abilities-expo-4/
END:VEVENT
END:VCALENDAR